BEGIN:VCALENDAR
VERSION:2.0
PRODID:-//Théâtre du Cyclope - ECPv5.1.6//NONSGML v1.0//EN
CALSCALE:GREGORIAN
METHOD:PUBLISH
X-WR-CALNAME:Théâtre du Cyclope
X-ORIGINAL-URL:https://www.theatreducyclope.com
X-WR-CALDESC:évènements pour Théâtre du Cyclope
BEGIN:VTIMEZONE
TZID:Europe/Paris
BEGIN:DAYLIGHT
TZOFFSETFROM:+0100
TZOFFSETTO:+0200
TZNAME:CEST
DTSTART:20190331T010000
END:DAYLIGHT
BEGIN:STANDARD
TZOFFSETFROM:+0200
TZOFFSETTO:+0100
TZNAME:CET
DTSTART:20191027T010000
END:STANDARD
END:VTIMEZONE
BEGIN:VEVENT
DTSTART;TZID=Europe/Paris:20190316T210000
DTEND;TZID=Europe/Paris:20190323T230000
DTSTAMP:20260424T205528
CREATED:20181205T204138Z
LAST-MODIFIED:20190311T154354Z
UID:1674-1552770000-1553382000@www.theatreducyclope.com
SUMMARY:Petits Crimes Conjugaux
DESCRIPTION:Comédie dramatique \nÀ travers une intrigue tortueuse et captivante\,\nPetits crimes conjugaux analyse la violence et la passion du couple soumis à la durée…\nGilles a perdu la mémoire à la suite d’un accident. Il doit tout réapprendre\, redécouvrir sa vie.\nSa femme\, Lisa\, lui raconte leur intimité\, leur complicité. Mais peu à peu\, chacun doute de l’autre et le marivaudage tourne à l’affrontement . \nIls formaient un couple ordinaire et uni\, presqu’idéal. Ils ont fini par vivre côte à côte.  Le vernis du mariage s’est craquelé et a révélé la disgrâce de l’amour usé\, altéré…\nDes personnages puissants qui n’abandonnent jamais et usent du meilleur comme du pire pour tenter de s’aimer encore.
URL:https://www.theatreducyclope.com/spectacle/petits-crimes-conjugaux/
CATEGORIES:Slider,Tout public
ATTACH;FMTTYPE=image/jpeg:https://www.theatreducyclope.com/cyclope_2019/wp-content/uploads/2018/12/DSC_4135.jpg
END:VEVENT
END:VCALENDAR