BEGIN:VCALENDAR
VERSION:2.0
PRODID:-//Théâtre du Cyclope - ECPv5.1.6//NONSGML v1.0//EN
CALSCALE:GREGORIAN
METHOD:PUBLISH
X-WR-CALNAME:Théâtre du Cyclope
X-ORIGINAL-URL:https://www.theatreducyclope.com
X-WR-CALDESC:évènements pour Théâtre du Cyclope
BEGIN:VTIMEZONE
TZID:Europe/Paris
BEGIN:DAYLIGHT
TZOFFSETFROM:+0100
TZOFFSETTO:+0200
TZNAME:CEST
DTSTART:20190331T010000
END:DAYLIGHT
BEGIN:STANDARD
TZOFFSETFROM:+0200
TZOFFSETTO:+0100
TZNAME:CET
DTSTART:20191027T010000
END:STANDARD
END:VTIMEZONE
BEGIN:VEVENT
DTSTART;TZID=Europe/Paris:20190601T080000
DTEND;TZID=Europe/Paris:20190602T173000
DTSTAMP:20260424T160859
CREATED:20190327T113402Z
LAST-MODIFIED:20190529T081939Z
UID:3148-1559376000-1559496600@www.theatreducyclope.com
SUMMARY:Un an après
DESCRIPTION:On se retrouve un an après une tragédie….Que reste t-il après un événement traumatisant qui change nos vies à tout jamais…On en parle encore\, on oublie\, on passe à autre chose mais certaines traces peuvent être indélébiles….
URL:https://www.theatreducyclope.com/spectacle/un-an-apres/
CATEGORIES:Slider,Travaux d'élèves
ATTACH;FMTTYPE=image/jpeg:https://www.theatreducyclope.com/cyclope_2019/wp-content/uploads/2019/03/affiche-Travaux-délève.jpg
END:VEVENT
BEGIN:VEVENT
DTSTART;TZID=Europe/Paris:20190604T080000
DTEND;TZID=Europe/Paris:20190611T190000
DTSTAMP:20260424T160859
CREATED:20190327T115014Z
LAST-MODIFIED:20190327T115308Z
UID:3150-1559635200-1560279600@www.theatreducyclope.com
SUMMARY:Un square qui rime avec ?
DESCRIPTION:Mme Poubelle\, Nounours et leurs amis sont très inquièts\, Journal vient de leur annoncer que Mme Foldor\, la célèbre promotrice de la ville\, allait faire détruire le square.\nAidés de la jeune Lilou et des autres amoureux de ce petit espace vert\, réussiront-ils à sauver leur square? Rien ne semble pouvoir faire flancher Mme Foldor. Rien ? Non\, il reste toujours un peu d‘espoir… Entre citoyenneté et rêves d‘enfant\, une pièce drôle et tendre.
URL:https://www.theatreducyclope.com/spectacle/un-square-qui-rime-avec/
CATEGORIES:Slider,Travaux d'élèves
ATTACH;FMTTYPE=image/jpeg:https://www.theatreducyclope.com/cyclope_2019/wp-content/uploads/2019/03/affiche-Travaux-délève.jpg
END:VEVENT
BEGIN:VEVENT
DTSTART;TZID=Europe/Paris:20190607T080000
DTEND;TZID=Europe/Paris:20190609T180000
DTSTAMP:20260424T160859
CREATED:20190327T115804Z
LAST-MODIFIED:20190418T155020Z
UID:3152-1559894400-1560103200@www.theatreducyclope.com
SUMMARY:Vivre livre ou mourir ignorant
DESCRIPTION:Que font les livres\, la nuit\, quand les derniers visiteurs sont partis? L‘existence était paisible dans cette bibliothèque heureuse jusqu‘à ce que le Grand Autocrate envoie ses épurateurs massacrer les livres. Le livre saura-t-il faire face ….tatata…
URL:https://www.theatreducyclope.com/spectacle/vivre-livre-ou-mourir-ignorant/
CATEGORIES:Slider,Travaux d'élèves
ATTACH;FMTTYPE=image/jpeg:https://www.theatreducyclope.com/cyclope_2019/wp-content/uploads/2019/03/affiche-Travaux-délève.jpg
END:VEVENT
BEGIN:VEVENT
DTSTART;TZID=Europe/Paris:20190614T080000
DTEND;TZID=Europe/Paris:20190616T180000
DTSTAMP:20260424T160859
CREATED:20190327T121008Z
LAST-MODIFIED:20190611T083410Z
UID:3154-1560499200-1560708000@www.theatreducyclope.com
SUMMARY:12 âmes en colère
DESCRIPTION:Ils sont 12. Douze personnes comme vous et moi. Ils ont simplement été désignés par le sort…et les voilà soudainement devenus responsables de juger de la culpabilité d’un homme.\nMais attention\, la sentence encourue est une sentence de mort. Les doutes et les certitudes s’affrontent : nous voilà plongés au cœur de l’âme humaine…
URL:https://www.theatreducyclope.com/spectacle/12-ames-en-colere/
CATEGORIES:Slider,Travaux d'élèves
ATTACH;FMTTYPE=image/jpeg:https://www.theatreducyclope.com/cyclope_2019/wp-content/uploads/2019/03/affiche_12-ames-en-colere-V2-2.jpg
END:VEVENT
BEGIN:VEVENT
DTSTART;TZID=Europe/Paris:20190621T080000
DTEND;TZID=Europe/Paris:20190623T183000
DTSTAMP:20260424T160859
CREATED:20190327T131910Z
LAST-MODIFIED:20190401T130703Z
UID:3156-1561104000-1561314600@www.theatreducyclope.com
SUMMARY:Tribulations
DESCRIPTION:Les comédien.nes du Théâtre du Cyclope\,\ns‘interrogent sur le monde dans lequel ils vivent ;\nEt décident ensemble\, de préparer la révolution .\nIls ne veulent pas (ou plus) subir leur vie\, ni les injonctions de l‘époque .\nAlors ensemble\, ils investissent le théâtre et tentent de donner du sens à leur existences. Il tentent de laisser s‘épanouir leurs émotions\, leurs états d‘ames\, de laisser se révéler leur natures profondes et d‘exprimer leurs désirs par rapport à ce monde .\nQue va t-il se révéler dans ce théâtre ?\nPour en savoir d‘avantage : Rdv quartier Joffre\, point de repère : pancarte révolution tribulations.
URL:https://www.theatreducyclope.com/spectacle/tribulations/
CATEGORIES:Slider,Travaux d'élèves
ATTACH;FMTTYPE=image/png:https://www.theatreducyclope.com/cyclope_2019/wp-content/uploads/2019/03/Affiche-theatre-finaleA3-1-1-1.png
END:VEVENT
END:VCALENDAR