BEGIN:VCALENDAR
VERSION:2.0
PRODID:-//Théâtre du Cyclope - ECPv5.1.6//NONSGML v1.0//EN
CALSCALE:GREGORIAN
METHOD:PUBLISH
X-WR-CALNAME:Théâtre du Cyclope
X-ORIGINAL-URL:https://www.theatreducyclope.com
X-WR-CALDESC:évènements pour Théâtre du Cyclope
BEGIN:VTIMEZONE
TZID:Europe/Paris
BEGIN:DAYLIGHT
TZOFFSETFROM:+0100
TZOFFSETTO:+0200
TZNAME:CEST
DTSTART:20190331T010000
END:DAYLIGHT
BEGIN:STANDARD
TZOFFSETFROM:+0200
TZOFFSETTO:+0100
TZNAME:CET
DTSTART:20191027T010000
END:STANDARD
END:VTIMEZONE
BEGIN:VEVENT
DTSTART;TZID=Europe/Paris:20191028T080000
DTEND;TZID=Europe/Paris:20191101T170000
DTSTAMP:20260422T043817
CREATED:20190626T150234Z
LAST-MODIFIED:20191015T105149Z
UID:3223-1572249600-1572627600@www.theatreducyclope.com
SUMMARY:Reglement de contes
DESCRIPTION:Trois merveilleuses histoires biodivertissantes.\nElle transforme les feuilles en nuage et les princes en grenouilles.\nUn clin d’oeil\, un éternuement\, le papier devient silhouette\, la maison une ville. Le coup de gueule n’est jamais bien loin. Il faut dire qu’ils sont bien agaçants ces princes séduisants\, ces décideurs arrogants et ces humains bruyants. D’un seul coup\, les transformer ou les jeter au chien\, quel plaisir !\nEntre humour et gourmandise face à un monde à la fois réjouissant et décevant\, Roselyne Chauviré donne à voir des histoires de coeur\, poétiques et décalées.
URL:https://www.theatreducyclope.com/spectacle/reglement-de-contes/
CATEGORIES:Jeune Public,Slider
ATTACH;FMTTYPE=image/jpeg:https://www.theatreducyclope.com/cyclope_2019/wp-content/uploads/2019/06/3c3a86b9f1b11d7bbdffaf7421ed76e22ba21cf4.jpeg
END:VEVENT
BEGIN:VEVENT
DTSTART;TZID=Europe/Paris:20191116T080000
DTEND;TZID=Europe/Paris:20191117T190000
DTSTAMP:20260422T043817
CREATED:20190626T153616Z
LAST-MODIFIED:20190828T104921Z
UID:3234-1573891200-1574017200@www.theatreducyclope.com
SUMMARY:L'empreinte (week-end Collectif du banc jaune)
DESCRIPTION:Carine Cottineau explore l’histoire de la danse orientale dans ses dimensions esthétique\, sociale\, politique et ethnologique. \n«L’empreinte» retrace l’histoire de la danse orientale\, du culte des déesses-mères à l’engouement des cabarets égyptiens\, en passant par l’empreinte des danseuses tziganes. C’est aussi l’histoire de femmes\, d’origines et de conditions sociales diverses et variées\, qui traversent cette danse\, à la fois intime et festive.
URL:https://www.theatreducyclope.com/spectacle/week-end-collectif-du-bac-jaune-lempreinte/
CATEGORIES:Slider,Tout public
ATTACH;FMTTYPE=image/jpeg:https://www.theatreducyclope.com/cyclope_2019/wp-content/uploads/2019/06/téléchargement.jpg
END:VEVENT
BEGIN:VEVENT
DTSTART;TZID=Europe/Paris:20191122T080000
DTEND;TZID=Europe/Paris:20191124T220000
DTSTAMP:20260422T043817
CREATED:20190701T133344Z
LAST-MODIFIED:20191121T165335Z
UID:3265-1574409600-1574632800@www.theatreducyclope.com
SUMMARY:Théâtre-Débat : Histoires de femmes\, un regard sur la condition féminine
DESCRIPTION:“Il était une fois la fabuleuse histoire de la femme et de l’homme… Parce que l’un ne va pas sans l’autre”…. Car ce n’est pas une histoire mais des histoires que vous raconte la troupe de L’Estrade. Celles des femmes d’hier et aujourd’hui\, parfois drôles et parfois tragiques\, mais toujours\ntouchantes. Des témoignages qui se succèdent et nous amènent à réfléchir sur la condition de ces femmes qui doivent être à la fois aux fourneaux et au régime\, avoir du caractère mais pas trop\, soigner leur apparence sans être des objets sexuels… \nNous vous proposons d’échanger ensemble autour de ces thématiques importantes et de ce que cette pièce aura pu susciter chez vous.
URL:https://www.theatreducyclope.com/spectacle/theatre-debat-histoires-de-femmes-un-regard-sur-la-condition-feminine/
CATEGORIES:Slider,Tout public
ATTACH;FMTTYPE=image/jpeg:https://www.theatreducyclope.com/cyclope_2019/wp-content/uploads/2019/07/visuel-sans-date.jpg
END:VEVENT
BEGIN:VEVENT
DTSTART;TZID=Europe/Paris:20191129T080000
DTEND;TZID=Europe/Paris:20191129T223000
DTSTAMP:20260422T043817
CREATED:20190626T154558Z
LAST-MODIFIED:20190709T123944Z
UID:3238-1575014400-1575066600@www.theatreducyclope.com
SUMMARY:Femmes du Fleuve
DESCRIPTION:Au son du tambour\, du cuatro\, de la guitare et de l’accordéon\, ‘Femmes du Fleuve’ nous emmène en Amérique Latine sur les bords d’un fleuve où vivent des femmes enfantées des larmes de la Lune.\nPhilippe Sizaire et Naira Andrade racontent ces femmes\, inconnues\, mais dont il importe de raconter l’histoire.\nUn vrai duo d’histoires et de chansons\, de présence partagée\, de rire et de poésie\, entre légèreté du ton et profondeur de la vie.
URL:https://www.theatreducyclope.com/spectacle/femmes-du-fleuve/
CATEGORIES:Slider,Tout public
ATTACH;FMTTYPE=image/jpeg:https://www.theatreducyclope.com/cyclope_2019/wp-content/uploads/2019/06/del_castillo-9164-Medium.jpg
END:VEVENT
END:VCALENDAR