BEGIN:VCALENDAR
VERSION:2.0
PRODID:-//Théâtre du Cyclope - ECPv5.1.6//NONSGML v1.0//EN
CALSCALE:GREGORIAN
METHOD:PUBLISH
X-WR-CALNAME:Théâtre du Cyclope
X-ORIGINAL-URL:https://www.theatreducyclope.com
X-WR-CALDESC:évènements pour Théâtre du Cyclope
BEGIN:VTIMEZONE
TZID:Europe/Paris
BEGIN:DAYLIGHT
TZOFFSETFROM:+0100
TZOFFSETTO:+0200
TZNAME:CEST
DTSTART:20200329T010000
END:DAYLIGHT
BEGIN:STANDARD
TZOFFSETFROM:+0200
TZOFFSETTO:+0100
TZNAME:CET
DTSTART:20201025T010000
END:STANDARD
END:VTIMEZONE
BEGIN:VEVENT
DTSTART;TZID=Europe/Paris:20200102T080000
DTEND;TZID=Europe/Paris:20200104T170000
DTSTAMP:20260422T015802
CREATED:20190701T132403Z
LAST-MODIFIED:20190710T150518Z
UID:3263-1577952000-1578157200@www.theatreducyclope.com
SUMMARY:L'est ou mon doudou ?
DESCRIPTION:Il fait nuit\, lune belle et grande nuit\, Lulu rêve dans son lit…\nMais soudain\, Lulu fait un cauchemar\, se réveille et dans son lit\, il n’y a plus de doudou. L’est où l’doudou d’Lulu ?\nL’est où ? Commence alors une aventure nocturne et musicale à travers les pièces de la maison\, à la recherche du doudou perdu.
URL:https://www.theatreducyclope.com/spectacle/lest-ou-mon-doudou-2/
CATEGORIES:Jeune Public,Slider
ATTACH;FMTTYPE=image/jpeg:https://www.theatreducyclope.com/cyclope_2019/wp-content/uploads/2018/12/48332791_1249446711860030_23954527258411008_n.jpg
END:VEVENT
BEGIN:VEVENT
DTSTART;TZID=Europe/Paris:20200117T080000
DTEND;TZID=Europe/Paris:20200119T180000
DTSTAMP:20260422T015802
CREATED:20190701T121611Z
LAST-MODIFIED:20191209T111417Z
UID:3248-1579248000-1579456800@www.theatreducyclope.com
SUMMARY:C'est beau une ville la nuit
DESCRIPTION:Voilà plus de 15 ans que la Troupe du malin existe à Nantes. Cette saison\, elle a décidé de s’installer au théâtre du Cyclope au cours d’un weekend. Chaque jour un spectacle différent mais à chaque fois la même difficulté\, improviser des histoires plus originales les unes que les autres. Laissez vous tenter par la folie de nos improvisateurs chevronnés.
URL:https://www.theatreducyclope.com/spectacle/la-troupe-du-malin-improvise-au-cyclope/
CATEGORIES:Slider,Tout public
ATTACH;FMTTYPE=image/jpeg:https://www.theatreducyclope.com/cyclope_2019/wp-content/uploads/2019/07/IMG_0657.jpg
END:VEVENT
BEGIN:VEVENT
DTSTART;TZID=Europe/Paris:20200124T080000
DTEND;TZID=Europe/Paris:20200124T203000
DTSTAMP:20260422T015802
CREATED:20190701T125104Z
LAST-MODIFIED:20190709T145810Z
UID:3251-1579852800-1579897800@www.theatreducyclope.com
SUMMARY:Carte blanche à Eric Ferrat : Eldorado
DESCRIPTION:Deux destins tissés\, sous la plume de Laurent Gaudé\, dessinent l’Odyssée inversée de notre monde contemporain qu’est l’émigration.\nLes deux protagonistes quittent leur pays allant\, sans le savoir\, l’un vers l’autre.\nTous deux remettent en jeu leur vie\, dans cette quête épique d’un Eldorado\, parce que le rêve est ce qui rend les hommes beaux\, dans l’abandon et la détermination qu’il exige.\nDeux destins et parcours pour deux lecteurs…
URL:https://www.theatreducyclope.com/spectacle/carte-blanche-eric-ferrat-eldorado/
CATEGORIES:Slider,Tout public
ATTACH;FMTTYPE=image/jpeg:https://www.theatreducyclope.com/cyclope_2019/wp-content/uploads/2019/07/visuel-3.jpg
END:VEVENT
BEGIN:VEVENT
DTSTART;TZID=Europe/Paris:20200125T080000
DTEND;TZID=Europe/Paris:20200126T183000
DTSTAMP:20260422T015802
CREATED:20190701T125844Z
LAST-MODIFIED:20190710T134604Z
UID:3254-1579939200-1580063400@www.theatreducyclope.com
SUMMARY:Carte blanche à Eric Ferrat : Novecento pianiste
DESCRIPTION:Né lors d’une traversée\, Novecento\, à trente ans\, n’a jamais mis le pied à terre. Naviguant sans répit sur l’Atlantique\, il passe sa vie les mains posées sur les quatre-vingt-huit touches noires et blanches d’un piano\, à composer une musique étrange et magnifique\, qui n’appartient qu’à lui : la musique de l’Océan dont l’écho se répand dans tous les ports.
URL:https://www.theatreducyclope.com/spectacle/carte-blanche-eric-ferrat-novecento-pianiste/
CATEGORIES:Slider,Tout public
ATTACH;FMTTYPE=image/jpeg:https://www.theatreducyclope.com/cyclope_2019/wp-content/uploads/2019/07/visuel-4.jpg
END:VEVENT
END:VCALENDAR