BEGIN:VCALENDAR
VERSION:2.0
PRODID:-//Théâtre du Cyclope - ECPv5.1.6//NONSGML v1.0//EN
CALSCALE:GREGORIAN
METHOD:PUBLISH
X-WR-CALNAME:Théâtre du Cyclope
X-ORIGINAL-URL:https://www.theatreducyclope.com
X-WR-CALDESC:évènements pour Théâtre du Cyclope
BEGIN:VTIMEZONE
TZID:Europe/Paris
BEGIN:DAYLIGHT
TZOFFSETFROM:+0100
TZOFFSETTO:+0200
TZNAME:CEST
DTSTART:20200329T010000
END:DAYLIGHT
BEGIN:STANDARD
TZOFFSETFROM:+0200
TZOFFSETTO:+0100
TZNAME:CET
DTSTART:20201025T010000
END:STANDARD
END:VTIMEZONE
BEGIN:VEVENT
DTSTART;TZID=Europe/Paris:20200131T080000
DTEND;TZID=Europe/Paris:20200202T183000
DTSTAMP:20260423T105047
CREATED:20190701T130638Z
LAST-MODIFIED:20190710T135317Z
UID:3257-1580457600-1580668200@www.theatreducyclope.com
SUMMARY:Le Dieu du Carnage
DESCRIPTION:Ils se rencontrent pour la première fois. Deux couples. Un salon. Et la bagarre de leurs fils dans le parc du quartier. Polis et bienveillants\, les adultes cherchent à calmer la relation entre leurs enfants. Mais très vite\, ces quarantenaires se font face dans des argumentations acerbes et violentes. Au milieu de ce tourbillon\, l’eau calme de l’aquarium de Bubulle a quelque chose d’apaisant…
URL:https://www.theatreducyclope.com/spectacle/le-dieu-du-carnage-2/
CATEGORIES:Slider,Tout public
ATTACH;FMTTYPE=image/jpeg:https://www.theatreducyclope.com/cyclope_2019/wp-content/uploads/2018/12/Le-dieu-du-carnage_Affiche.jpg
END:VEVENT
BEGIN:VEVENT
DTSTART;TZID=Europe/Paris:20200207T080000
DTEND;TZID=Europe/Paris:20200208T180000
DTSTAMP:20260423T105047
CREATED:20190701T131328Z
LAST-MODIFIED:20191216T100915Z
UID:3259-1581062400-1581184800@www.theatreducyclope.com
SUMMARY:SOUS PEINE DE POURSUITE
DESCRIPTION:Un artiste\, passionné par Barbe Bleue\, se retrouve mêlé à la vie d’une village hanté par le souvenir de Gilles de Rais – Barbe Bleue vendéen et compagnon d’arme de Jeanne d’Arc. Le jour de la reconstitution plus vraie que nature de son procès\, celui qui brûle n’est pas celui qu’on croît.
URL:https://www.theatreducyclope.com/spectacle/sous-peine-de-poursuite/
CATEGORIES:Slider,Tout public
ATTACH;FMTTYPE=image/jpeg:https://www.theatreducyclope.com/cyclope_2019/wp-content/uploads/2019/07/SPDP-Affiche-A4.jpg
END:VEVENT
BEGIN:VEVENT
DTSTART;TZID=Europe/Paris:20200214T080000
DTEND;TZID=Europe/Paris:20200216T080000
DTSTAMP:20260423T105047
CREATED:20191204T155501Z
LAST-MODIFIED:20191205T121037Z
UID:3362-1581667200-1581840000@www.theatreducyclope.com
SUMMARY:ICI et MAINTENANT
DESCRIPTION:Histoire d’amour entre un homme\, inventeur fou\, et sa machine vivante et musicale. « Ici et maintenant » c’est un homme qui imagine une incroyable machine. Une douce mécanique qui\nserait toujours à ses côtés\, qui pourrait partager ses petits plaisirs de tous les jours\, qui pourrait chanter et danser avec lui… c’est leur vie à tous les deux que l’on découvre ici… C’est aussi le jour où l’engrenage commence à grincer tout doucement\, où l’horlogerie si bien huilée se met à dérailler.
URL:https://www.theatreducyclope.com/spectacle/ici-et-maintenant/
CATEGORIES:Slider,Tout public
ATTACH;FMTTYPE=image/jpeg:https://www.theatreducyclope.com/cyclope_2019/wp-content/uploads/2019/12/Affiche-Ici-et-Maintenant.jpg
END:VEVENT
BEGIN:VEVENT
DTSTART;TZID=Europe/Paris:20200217T080000
DTEND;TZID=Europe/Paris:20200221T190000
DTSTAMP:20260423T105047
CREATED:20191204T161137Z
LAST-MODIFIED:20191205T130815Z
UID:3366-1581926400-1582311600@www.theatreducyclope.com
SUMMARY:Quand le cirque est venu
DESCRIPTION:Le général n’aime pas trop ça\, le cirque. De manière générale\, le général n’aime pas bien tous ces saltimbanques qui habitent dans des maisons qui roulent\, qui bougent tout le temps dans tous les sens\, et qu’on ne peut pas contrôler ! Un spectacle délirant et haut en couleur !
URL:https://www.theatreducyclope.com/spectacle/quand-le-cirque-est-venu/
CATEGORIES:Jeune Public,Programmation,Slider
ATTACH;FMTTYPE=image/jpeg:https://www.theatreducyclope.com/cyclope_2019/wp-content/uploads/2019/12/Affiche-61x81-qd-le-cirquerelecturepour-prog.jpg
END:VEVENT
BEGIN:VEVENT
DTSTART;TZID=Europe/Paris:20200224T080000
DTEND;TZID=Europe/Paris:20200228T200000
DTSTAMP:20260423T105047
CREATED:20191204T163648Z
LAST-MODIFIED:20191205T131521Z
UID:3370-1582531200-1582920000@www.theatreducyclope.com
SUMMARY:Celui qui partit en quête de la Peur
DESCRIPTION:Un papa a deux enfants ; l’un apprend tout mais l’autre n’est bon à rien.\nUn jour\, ce papa demande à son second fils ce qu’il veut faire comme métier. L’enfant répond sans hésiter : « Ce que je voudrais apprendre\, c’est cette chose-là dont tout le monde parle;\nla peur\, l’effroi\, le trac\, la frousse\, les foies… » Le papa n’est pas content\, il est même très en colère et il chasse le garçon de la maison. Le garçon est content\, il part sur les chemins\, enfin libre. Il va peut-être pouvoir découvrir cette chose étrange dont tout le monde parle. Nous suivrons ce héros sans nom dans sa quête. Il croisera des créatures surnaturelles\, un château hanté\, un roi un peu flippé et bien évidemment une mystérieuse princesse.
URL:https://www.theatreducyclope.com/spectacle/celui-qui-partit-en-quete-de-la-peur/
CATEGORIES:Jeune Public,Programmation,Slider
ATTACH;FMTTYPE=image/jpeg:https://www.theatreducyclope.com/cyclope_2019/wp-content/uploads/2019/12/mk-0811-cie-aml-015.jpg
END:VEVENT
END:VCALENDAR